0.1
0
0
-0.1
597821.885194243
4686928.45893441
