0.1
0
0
-0.1
597829.988640612
4686350.16944175
