0.1
0
0
-0.1
597846.192536623
4685193.59344985
