0.1
0
0
-0.1
598712.865399866
4684627.50273108
