0.1
0
0
-0.1
624131.910728915
4655531.23902271
