0.1
0
0
-0.1
624152.261239527
4654374.70519976
