0.1
0
0
-0.1
622437.606777288
4653766.21810324
