0.1
0
0
-0.1
623300.022343486
4653781.32837087
