0.1
0
0
-0.1
625856.312354561
4655561.67060045
