0.1
0
0
-0.1
625866.63045423
4654983.40177345
