0.1
0
0
-0.1
625897.582266919
4653248.59677937
