0.1
0
0
-0.1
625907.896875725
4652670.3314436
