0.1
0
0
-0.1
625918.211486812
4652092.06610565
