0.1
0
0
-0.1
608163.74455099
4739142.31411689
