0.1
0
0
-0.1
609015.623433548
4739155.79415968
