0.1
0
0
-0.1
611571.270080662
4739196.85899525
