0.1
0
0
-0.1
608172.84985817
4738563.97155285
