0.1
0
0
-0.1
609895.251550104
4737434.24155021
