0.1
0
0
-0.1
608200.160894389
4736828.9476078
