0.1
0
0
-0.1
606513.73567592
4735645.53074088
