0.1
0
0
-0.1
605679.194202627
4734475.79829158
