0.1
0
0
-0.1
608218.361489013
4735672.26880125
