0.1
0
0
-0.1
609079.845853622
4735107.40524332
