0.1
0
0
-0.1
608245.65788249
4733937.25432517
