0.1
0
0
-0.1
609950.712552437
4733964.20257483
