0.1
0
0
-0.1
608254.754180685
4733358.91516214
