0.1
0
0
-0.1
608263.850979084
4732780.57649693
