0.1
0
0
-0.1
610803.242636848
4733977.89070054
