0.1
0
0
-0.1
609153.195984454
4730480.71692794
