0.1
0
0
-0.1
608309.333646728
4729888.90817346
