0.1
0
0
-0.1
611899.493145796
4718955.21822864
