0.1
0
0
-0.1
610209.147719702
4717770.99905557
