0.1
0
0
-0.1
610218.360052659
4717192.67452499
