0.1
0
0
-0.1
643592.133899653
4756570.70121585
