0.1
0
0
-0.1
644429.728559766
4757166.93095342
