0.1
0
0
-0.1
615762.386463047
4743315.80489721
