0.1
0
0
-0.1
614040.397684838
4744443.86765386
