0.1
0
0
-0.1
613208.250250822
4743273.05638208
