0.1
0
0
-0.1
614059.627000321
4743287.16538161
