0.1
0
0
-0.1
607394.668070715
4787725.75690835
