0.1
0
0
-0.1
606557.910031403
4787133.88558711
