0.1
0
0
-0.1
586690.59040226
4752720.11566005
