0.1
0
0
-0.1
585004.656628162
4751542.16375218
