0.1
0
0
-0.1
669300.668576216
4748478.88220594
