0.1
0
0
-0.1
670151.550862362
4748499.94786481
