0.1
0
0
-0.1
669314.980973546
4747900.55302917
