0.1
0
0
-0.1
670180.318989586
4747343.28799011
