0.1
0
0
-0.1
605036.770455033
4776118.12120528
