0.1
0
0
-0.1
571417.841552892
4749651.54392043
