0.1
0
0
-0.1
572274.494259334
4749082.01230904
